BEGIN:VCALENDAR
VERSION:2.0
PRODID:-//Squarespace Inc/Squarespace 6//v6//EN
BEGIN:VEVENT
UID:5d086457272faf0001e941b2@squarespace.com
DTSTAMP:20190618T041818Z
DTSTART:20190810T030000Z
DTEND:20190810T050000Z
SUMMARY:Hand Sewing Workshop
GEO:-37.777851;145.030627
LOCATION:Alphington Community Centre\, 2 Kelvin Road\, Alphington\, VIC\, 3
 078\, Australia
END:VEVENT
END:VCALENDAR
