BEGIN:VCALENDAR
VERSION:2.0
PRODID:-//Squarespace Inc/Squarespace 6//v6//EN
BEGIN:VEVENT
UID:5d09b0582005830001b582e9@squarespace.com
DTSTAMP:20190621T032411Z
DTSTART:20190803T040000Z
DTEND:20190803T070000Z
SUMMARY:Art Appreciation Group
END:VEVENT
END:VCALENDAR
