BEGIN:VCALENDAR
VERSION:2.0
PRODID:-//Squarespace Inc/Squarespace 6//v6//EN
BEGIN:VEVENT
UID:5d09aeea2c88210001edab84@squarespace.com
DTSTAMP:20190619T042743Z
DTSTART:20190805T093000Z
DTEND:20190805T113000Z
SUMMARY:CWA
END:VEVENT
END:VCALENDAR
