BEGIN:VCALENDAR
VERSION:2.0
PRODID:-//Squarespace Inc/Squarespace 6//v6//EN
BEGIN:VEVENT
UID:5d09a27d1b18580001613d6c@squarespace.com
DTSTAMP:20190619T042818Z
DTSTART:20190823T023000Z
DTEND:20190823T043000Z
SUMMARY:Community Lunch
END:VEVENT
END:VCALENDAR
