BEGIN:VCALENDAR
VERSION:2.0
PRODID:-//Squarespace Inc/Squarespace 6//v6//EN
BEGIN:VEVENT
UID:5d09a45b2005830001b4d581@squarespace.com
DTSTAMP:20190619T042809Z
DTSTART:20190819T093000Z
DTEND:20190819T103000Z
SUMMARY:3rd Monday Book Club
END:VEVENT
END:VCALENDAR
