BEGIN:VCALENDAR
VERSION:2.0
PRODID:-//Squarespace Inc/Squarespace 6//v6//EN
BEGIN:VEVENT
UID:5d09a89a8bc6560001b8fb4b@squarespace.com
DTSTAMP:20190619T042901Z
DTSTART:20190910T093000Z
DTEND:20190910T110000Z
SUMMARY:History Group
END:VEVENT
END:VCALENDAR
