BEGIN:VCALENDAR
VERSION:2.0
PRODID:-//Squarespace Inc/Squarespace 6//v6//EN
BEGIN:VEVENT
UID:5d09a8002005830001b50bc8@squarespace.com
DTSTAMP:20190619T042801Z
DTSTART:20190812T093000Z
DTEND:20190812T110000Z
SUMMARY:2nd Monday Book Club
END:VEVENT
END:VCALENDAR
