BEGIN:VCALENDAR
VERSION:2.0
PRODID:-//Squarespace Inc/Squarespace 6//v6//EN
BEGIN:VEVENT
UID:5d09a0c14567f00001cdafc2@squarespace.com
DTSTAMP:20190619T042751Z
DTSTART:20190811T040000Z
DTEND:20190811T070000Z
SUMMARY:Boomerang Bags
END:VEVENT
END:VCALENDAR
