BEGIN:VCALENDAR
VERSION:2.0
PRODID:-//Squarespace Inc/Squarespace 6//v6//EN
BEGIN:VEVENT
UID:5d841ce92694431a6b456dd0@squarespace.com
DTSTAMP:20190920T004722Z
DTSTART:20191008T070000Z
DTEND:20191008T081500Z
SUMMARY:Yoga - Amrita
GEO:-37.777851;145.030627
LOCATION:Alphington Community Centre\, 2 Kelvin Road\, Alphington\, VIC\, 3
 078\, Australia
END:VEVENT
END:VCALENDAR
